BEGIN:VCALENDAR
VERSION:2.0
PRODID:-//1. Halleiner Schachklub - ECPv6.15.18//NONSGML v1.0//EN
CALSCALE:GREGORIAN
METHOD:PUBLISH
X-ORIGINAL-URL:https://www.schachklub-hallein.at
X-WR-CALDESC:Veranstaltungen für 1. Halleiner Schachklub
REFRESH-INTERVAL;VALUE=DURATION:PT1H
X-Robots-Tag:noindex
X-PUBLISHED-TTL:PT1H
BEGIN:VTIMEZONE
TZID:Europe/Berlin
BEGIN:DAYLIGHT
TZOFFSETFROM:+0100
TZOFFSETTO:+0200
TZNAME:CEST
DTSTART:20240331T010000
END:DAYLIGHT
BEGIN:STANDARD
TZOFFSETFROM:+0200
TZOFFSETTO:+0100
TZNAME:CET
DTSTART:20241027T010000
END:STANDARD
BEGIN:DAYLIGHT
TZOFFSETFROM:+0100
TZOFFSETTO:+0200
TZNAME:CEST
DTSTART:20250330T010000
END:DAYLIGHT
BEGIN:STANDARD
TZOFFSETFROM:+0200
TZOFFSETTO:+0100
TZNAME:CET
DTSTART:20251026T010000
END:STANDARD
BEGIN:DAYLIGHT
TZOFFSETFROM:+0100
TZOFFSETTO:+0200
TZNAME:CEST
DTSTART:20260329T010000
END:DAYLIGHT
BEGIN:STANDARD
TZOFFSETFROM:+0200
TZOFFSETTO:+0100
TZNAME:CET
DTSTART:20261025T010000
END:STANDARD
END:VTIMEZONE
BEGIN:VEVENT
DTSTART;TZID=Europe/Berlin:20251206T090000
DTEND;TZID=Europe/Berlin:20251206T110000
DTSTAMP:20260420T120656
CREATED:20251014T165637Z
LAST-MODIFIED:20251014T165644Z
UID:13906-1765011600-1765018800@www.schachklub-hallein.at
SUMMARY:Fortgeschrittenentraining
DESCRIPTION:Teilnehmerkreis: Fortgeschrittene Jugendliche und Erwachsene Vorbereitung LM 2026
URL:https://www.schachklub-hallein.at/event/fortgeschrittenentraining-12/
END:VEVENT
BEGIN:VEVENT
DTSTART;TZID=Europe/Berlin:20251208T090000
DTEND;TZID=Europe/Berlin:20251208T170000
DTSTAMP:20260420T120656
CREATED:20250706T173411Z
LAST-MODIFIED:20250706T173417Z
UID:13317-1765184400-1765213200@www.schachklub-hallein.at
SUMMARY:KREATIV Schach Event
DESCRIPTION:Mo FEIERTAG von 0900 bis 1700 Uhr\nFür ALLE
URL:https://www.schachklub-hallein.at/event/kreativ-schach-event-2/
END:VEVENT
BEGIN:VEVENT
DTSTART;TZID=Europe/Berlin:20251218T180000
DTEND;TZID=Europe/Berlin:20251218T210000
DTSTAMP:20260420T120656
CREATED:20250706T172454Z
LAST-MODIFIED:20250706T172501Z
UID:13301-1766080800-1766091600@www.schachklub-hallein.at
SUMMARY:Weihnachtsfeier  mit Weihnachtsblitzturnier
DESCRIPTION:Weihnachtsfeier für die Jugend ab 1800 Uhr\nWeihnachtsfeier Erwachsene ab 1900 Uhr
URL:https://www.schachklub-hallein.at/event/weihnachtsfeier-mit-weihnachtsblitzturnier/
END:VEVENT
BEGIN:VEVENT
DTSTART;TZID=Europe/Berlin:20251220T090000
DTEND;TZID=Europe/Berlin:20251220T110000
DTSTAMP:20260420T120656
CREATED:20251014T173202Z
LAST-MODIFIED:20251014T173202Z
UID:13910-1766221200-1766228400@www.schachklub-hallein.at
SUMMARY:Fortgeschrittenentraining
DESCRIPTION:Teilnehmerkreis: Fortgeschrittene Jugendliche und Erwachsene Vorbereitung LM 2026
URL:https://www.schachklub-hallein.at/event/fortgeschrittenentraining-14/
END:VEVENT
END:VCALENDAR