BEGIN:VCALENDAR
VERSION:2.0
PRODID:-//1. Halleiner Schachklub - ECPv6.15.18//NONSGML v1.0//EN
CALSCALE:GREGORIAN
METHOD:PUBLISH
X-WR-CALNAME:1. Halleiner Schachklub
X-ORIGINAL-URL:https://www.schachklub-hallein.at
X-WR-CALDESC:Veranstaltungen für 1. Halleiner Schachklub
REFRESH-INTERVAL;VALUE=DURATION:PT1H
X-Robots-Tag:noindex
X-PUBLISHED-TTL:PT1H
BEGIN:VTIMEZONE
TZID:Europe/Berlin
BEGIN:DAYLIGHT
TZOFFSETFROM:+0100
TZOFFSETTO:+0200
TZNAME:CEST
DTSTART:20240331T010000
END:DAYLIGHT
BEGIN:STANDARD
TZOFFSETFROM:+0200
TZOFFSETTO:+0100
TZNAME:CET
DTSTART:20241027T010000
END:STANDARD
BEGIN:DAYLIGHT
TZOFFSETFROM:+0100
TZOFFSETTO:+0200
TZNAME:CEST
DTSTART:20250330T010000
END:DAYLIGHT
BEGIN:STANDARD
TZOFFSETFROM:+0200
TZOFFSETTO:+0100
TZNAME:CET
DTSTART:20251026T010000
END:STANDARD
BEGIN:DAYLIGHT
TZOFFSETFROM:+0100
TZOFFSETTO:+0200
TZNAME:CEST
DTSTART:20260329T010000
END:DAYLIGHT
BEGIN:STANDARD
TZOFFSETFROM:+0200
TZOFFSETTO:+0100
TZNAME:CET
DTSTART:20261025T010000
END:STANDARD
END:VTIMEZONE
BEGIN:VEVENT
DTSTART;TZID=Europe/Berlin:20250301T150000
DTEND;TZID=Europe/Berlin:20250301T190000
DTSTAMP:20260420T182455
CREATED:20240819T162629Z
LAST-MODIFIED:20240819T162636Z
UID:11103-1740841200-1740855600@www.schachklub-hallein.at
SUMMARY:1. Klasse Süd - Runde 9
DESCRIPTION:Heimspiel gegen Bergheim/Oberndorf/Mozart
URL:https://www.schachklub-hallein.at/event/1-klasse-sued-runde-9/
END:VEVENT
BEGIN:VEVENT
DTSTART;TZID=Europe/Berlin:20250301T150000
DTEND;TZID=Europe/Berlin:20250301T210000
DTSTAMP:20260420T182455
CREATED:20240819T163132Z
LAST-MODIFIED:20240819T163138Z
UID:11111-1740841200-1740862800@www.schachklub-hallein.at
SUMMARY:Landesliga A - Runde 8
DESCRIPTION:Auswärtsspiel gegen HSK Pjesak/SK Schwarzach
URL:https://www.schachklub-hallein.at/event/landesliga-a-runde-8/
END:VEVENT
BEGIN:VEVENT
DTSTART;TZID=Europe/Berlin:20250306T190000
DTEND;TZID=Europe/Berlin:20250306T220000
DTSTAMP:20260420T182455
CREATED:20240603T131935Z
LAST-MODIFIED:20240603T131935Z
UID:10771-1741287600-1741298400@www.schachklub-hallein.at
SUMMARY:Halleiner Klubmeisterschaft 2025
DESCRIPTION:5. Runde Beginn 19:00 Uhr f Erwachsene
URL:https://www.schachklub-hallein.at/event/halleiner-klubmeisterschaft-2025-5/
END:VEVENT
BEGIN:VEVENT
DTSTART;TZID=Europe/Berlin:20250315T150000
DTEND;TZID=Europe/Berlin:20250315T190000
DTSTAMP:20260420T182455
CREATED:20240819T164124Z
LAST-MODIFIED:20240819T164124Z
UID:11127-1742050800-1742065200@www.schachklub-hallein.at
SUMMARY:2. Klasse Nord - Runde 8
DESCRIPTION:Auswärtsspiel gegen SIR Lehrer
URL:https://www.schachklub-hallein.at/event/2-klasse-nord-runde-8/
END:VEVENT
BEGIN:VEVENT
DTSTART;TZID=Europe/Berlin:20250315T150000
DTEND;TZID=Europe/Berlin:20250315T210000
DTSTAMP:20260420T182455
CREATED:20240819T163658Z
LAST-MODIFIED:20240819T163658Z
UID:11119-1742050800-1742072400@www.schachklub-hallein.at
SUMMARY:Landesliga B - Runde 8
DESCRIPTION:Auswärtsspiel gegen ASK Skywalker
URL:https://www.schachklub-hallein.at/event/landesliga-b-runde-8/
END:VEVENT
BEGIN:VEVENT
DTSTART;TZID=Europe/Berlin:20250323T083000
DTEND;TZID=Europe/Berlin:20250323T170000
DTSTAMP:20260420T182455
CREATED:20250202T191701Z
LAST-MODIFIED:20250202T191701Z
UID:12039-1742718600-1742749200@www.schachklub-hallein.at
SUMMARY:KiJu Rapid 2025 2. Runde
DESCRIPTION:2.: 23.03.2025 ASKÖ Sportzentrum SALZBURG-MAXGLAN\, Eichetstrasse 29-31 – 1.Stock\, 5020\,\nVeranstalter: ASK Salzburg. Kontakt: Reinhard Vlasak\nAnmeldung bis 17.3. an Gerhard Rosenlechner\nSpielbeginn: 10:00 Uhr\, Anwesenheitskontrolle 09:50 Uhr.\nSpielbedingungen: Bedenkzeit: 10 min + 3 s/Zug (kein Schreibzwang)\nRunden: 5 bis 7 Runden Schweizer System oder Rundenturnier (je nach Teilnehmerzahl)
URL:https://www.schachklub-hallein.at/event/kiju-rapid-2025-2-runde/
END:VEVENT
BEGIN:VEVENT
DTSTART;TZID=Europe/Berlin:20250327T190000
DTEND;TZID=Europe/Berlin:20250327T220000
DTSTAMP:20260420T182455
CREATED:20240603T132027Z
LAST-MODIFIED:20240603T132027Z
UID:10773-1743102000-1743112800@www.schachklub-hallein.at
SUMMARY:Halleiner Klubmeisterschaft 2025
DESCRIPTION:6. Runde Beginn 19:00 Uhr f Erwachsene
URL:https://www.schachklub-hallein.at/event/halleiner-klubmeisterschaft-2025-6/
END:VEVENT
BEGIN:VEVENT
DTSTART;TZID=Europe/Berlin:20250329T150000
DTEND;TZID=Europe/Berlin:20250329T190000
DTSTAMP:20260420T182455
CREATED:20240819T164216Z
LAST-MODIFIED:20240819T164216Z
UID:11129-1743260400-1743274800@www.schachklub-hallein.at
SUMMARY:2. Klasse Nord - Schlussrunde 9
DESCRIPTION:Heimspiel gegen Neumarkt Mix
URL:https://www.schachklub-hallein.at/event/2-klasse-nord-schlussrunde-9/
END:VEVENT
END:VCALENDAR