BEGIN:VCALENDAR
VERSION:2.0
PRODID:-//1. Halleiner Schachklub - ECPv6.15.18//NONSGML v1.0//EN
CALSCALE:GREGORIAN
METHOD:PUBLISH
X-WR-CALNAME:1. Halleiner Schachklub
X-ORIGINAL-URL:https://www.schachklub-hallein.at
X-WR-CALDESC:Veranstaltungen für 1. Halleiner Schachklub
REFRESH-INTERVAL;VALUE=DURATION:PT1H
X-Robots-Tag:noindex
X-PUBLISHED-TTL:PT1H
BEGIN:VTIMEZONE
TZID:Europe/Berlin
BEGIN:DAYLIGHT
TZOFFSETFROM:+0100
TZOFFSETTO:+0200
TZNAME:CEST
DTSTART:20230326T010000
END:DAYLIGHT
BEGIN:STANDARD
TZOFFSETFROM:+0200
TZOFFSETTO:+0100
TZNAME:CET
DTSTART:20231029T010000
END:STANDARD
BEGIN:DAYLIGHT
TZOFFSETFROM:+0100
TZOFFSETTO:+0200
TZNAME:CEST
DTSTART:20240331T010000
END:DAYLIGHT
BEGIN:STANDARD
TZOFFSETFROM:+0200
TZOFFSETTO:+0100
TZNAME:CET
DTSTART:20241027T010000
END:STANDARD
BEGIN:DAYLIGHT
TZOFFSETFROM:+0100
TZOFFSETTO:+0200
TZNAME:CEST
DTSTART:20250330T010000
END:DAYLIGHT
BEGIN:STANDARD
TZOFFSETFROM:+0200
TZOFFSETTO:+0100
TZNAME:CET
DTSTART:20251026T010000
END:STANDARD
END:VTIMEZONE
BEGIN:VEVENT
DTSTART;TZID=Europe/Berlin:20240914T150000
DTEND;TZID=Europe/Berlin:20240914T190000
DTSTAMP:20260421T123137
CREATED:20240805T142052Z
LAST-MODIFIED:20240805T142346Z
UID:11004-1726326000-1726340400@www.schachklub-hallein.at
SUMMARY:2. Klasse Nord - Runde 1
DESCRIPTION:Auswärtsspiel gegen ASK Evergreen
URL:https://www.schachklub-hallein.at/event/1-klasse-sued-runde-1-2/
END:VEVENT
BEGIN:VEVENT
DTSTART;TZID=Europe/Berlin:20240914T150000
DTEND;TZID=Europe/Berlin:20240914T190000
DTSTAMP:20260421T123137
CREATED:20240805T143357Z
LAST-MODIFIED:20240805T143357Z
UID:11027-1726326000-1726340400@www.schachklub-hallein.at
SUMMARY:Runde 1 der LLB
DESCRIPTION:Heimspiel gegen Ach/Burghausen 2
URL:https://www.schachklub-hallein.at/event/runde-1-der-llb/
END:VEVENT
BEGIN:VEVENT
DTSTART;VALUE=DATE:20240915
DTEND;VALUE=DATE:20240916
DTSTAMP:20260421T123137
CREATED:20240624T184217Z
LAST-MODIFIED:20240722T184920Z
UID:10918-1726358400-1726444799@www.schachklub-hallein.at
SUMMARY:Rehhofer Schnellschachturnier 2024
DESCRIPTION:Rehhofer Schnellschachturnier 2024Gemeindezentrum RIF Rifer-Hauptstraße 37\n7 Runden\nBedenkzeit 15 Min & 3 Sekunden pro Zug\nBeginn 10:00 Uhr
URL:https://www.schachklub-hallein.at/event/rehhofer-schnellschachturnier-2024/
END:VEVENT
BEGIN:VEVENT
DTSTART;TZID=Europe/Berlin:20240919T180000
DTEND;TZID=Europe/Berlin:20240919T200000
DTSTAMP:20260421T123137
CREATED:20240603T130728Z
LAST-MODIFIED:20240909T175449Z
UID:10751-1726768800-1726776000@www.schachklub-hallein.at
SUMMARY:Eröffnungsgrillfest
DESCRIPTION:Wann: NEU Do 19. Sep 2024 ab 18:00 Uhr\nVoranmeldung bis 10. Sep 2024 erbeten an rosenlechner@gmx.at
URL:https://www.schachklub-hallein.at/event/eroeffnungsgrillfest/
END:VEVENT
BEGIN:VEVENT
DTSTART;TZID=Europe/Berlin:20240921T150000
DTEND;TZID=Europe/Berlin:20240921T190000
DTSTAMP:20260421T123137
CREATED:20240805T142854Z
LAST-MODIFIED:20240805T142854Z
UID:11017-1726930800-1726945200@www.schachklub-hallein.at
SUMMARY:Runde 1 der LLA
DESCRIPTION:Heimspiel gegen Ranshofen 2
URL:https://www.schachklub-hallein.at/event/runde-1-der-lla/
END:VEVENT
BEGIN:VEVENT
DTSTART;TZID=Europe/Berlin:20240921T150000
DTEND;TZID=Europe/Berlin:20240921T190000
DTSTAMP:20260421T123137
CREATED:20240805T144206Z
LAST-MODIFIED:20240805T144206Z
UID:11038-1726930800-1726945200@www.schachklub-hallein.at
SUMMARY:1. Klasse Süd - Runde 1
DESCRIPTION:Auswärtsspiel gegen SK Schwarzach 3
URL:https://www.schachklub-hallein.at/event/1-klasse-sued-runde-1-3/
END:VEVENT
BEGIN:VEVENT
DTSTART;TZID=Europe/Berlin:20240926T190000
DTEND;TZID=Europe/Berlin:20240926T213000
DTSTAMP:20260421T123137
CREATED:20240603T130930Z
LAST-MODIFIED:20240603T130930Z
UID:10753-1727377200-1727386200@www.schachklub-hallein.at
SUMMARY:Schnellschachturnier 1. Staffel
DESCRIPTION:Nennschluss: 18:45 Uhr\n5.-€ pro Staffel\nBedenkzeit 15 Min & 3 sec pro Zug
URL:https://www.schachklub-hallein.at/event/schnellschachturnier-1-staffel-3/
END:VEVENT
BEGIN:VEVENT
DTSTART;TZID=Europe/Berlin:20240928T090000
DTEND;TZID=Europe/Berlin:20240928T110000
DTSTAMP:20260421T123137
CREATED:20240819T155951Z
LAST-MODIFIED:20240819T160008Z
UID:11079-1727514000-1727521200@www.schachklub-hallein.at
SUMMARY:Erweitertes Jugendtraining
DESCRIPTION:Fortgeschrittene bis Leistungsgruppe 09:00 bis 11:00 Uhr
URL:https://www.schachklub-hallein.at/event/erweitertes-jugendtraining/
END:VEVENT
BEGIN:VEVENT
DTSTART;TZID=Europe/Berlin:20240928T150000
DTEND;TZID=Europe/Berlin:20240928T190000
DTSTAMP:20260421T123137
CREATED:20240805T142151Z
LAST-MODIFIED:20240805T142450Z
UID:11006-1727535600-1727550000@www.schachklub-hallein.at
SUMMARY:2. Klasse Nord - Runde 2
DESCRIPTION:Heimspiel gegen Oberdorf/Laufen 2
URL:https://www.schachklub-hallein.at/event/1-klasse-sued-runde-2-2/
END:VEVENT
BEGIN:VEVENT
DTSTART;TZID=Europe/Berlin:20240928T150000
DTEND;TZID=Europe/Berlin:20240928T190000
DTSTAMP:20260421T123137
CREATED:20240805T143440Z
LAST-MODIFIED:20240805T143440Z
UID:11029-1727535600-1727550000@www.schachklub-hallein.at
SUMMARY:Runde 2 der LLB
DESCRIPTION:Auswärtsspiel gegen SIR Mondsee
URL:https://www.schachklub-hallein.at/event/runde-2-der-llb/
END:VEVENT
END:VCALENDAR