BEGIN:VCALENDAR
VERSION:2.0
PRODID:-//1. Halleiner Schachklub - ECPv6.15.18//NONSGML v1.0//EN
CALSCALE:GREGORIAN
METHOD:PUBLISH
X-ORIGINAL-URL:https://www.schachklub-hallein.at
X-WR-CALDESC:Veranstaltungen für 1. Halleiner Schachklub
REFRESH-INTERVAL;VALUE=DURATION:PT1H
X-Robots-Tag:noindex
X-PUBLISHED-TTL:PT1H
BEGIN:VTIMEZONE
TZID:Europe/Berlin
BEGIN:DAYLIGHT
TZOFFSETFROM:+0100
TZOFFSETTO:+0200
TZNAME:CEST
DTSTART:20230326T010000
END:DAYLIGHT
BEGIN:STANDARD
TZOFFSETFROM:+0200
TZOFFSETTO:+0100
TZNAME:CET
DTSTART:20231029T010000
END:STANDARD
BEGIN:DAYLIGHT
TZOFFSETFROM:+0100
TZOFFSETTO:+0200
TZNAME:CEST
DTSTART:20240331T010000
END:DAYLIGHT
BEGIN:STANDARD
TZOFFSETFROM:+0200
TZOFFSETTO:+0100
TZNAME:CET
DTSTART:20241027T010000
END:STANDARD
BEGIN:DAYLIGHT
TZOFFSETFROM:+0100
TZOFFSETTO:+0200
TZNAME:CEST
DTSTART:20250330T010000
END:DAYLIGHT
BEGIN:STANDARD
TZOFFSETFROM:+0200
TZOFFSETTO:+0100
TZNAME:CET
DTSTART:20251026T010000
END:STANDARD
END:VTIMEZONE
BEGIN:VEVENT
DTSTART;TZID=Europe/Berlin:20240203T090000
DTEND;TZID=Europe/Berlin:20240203T113000
DTSTAMP:20260425T150120
CREATED:20230820T132824Z
LAST-MODIFIED:20230820T132824Z
UID:7198-1706950800-1706959800@www.schachklub-hallein.at
SUMMARY:Jugendtraining
DESCRIPTION:Fortgeschrittene bis Leistungsgruppe\n09:00 bis 11:30 Uhr
URL:https://www.schachklub-hallein.at/event/jugendtraining-26/
END:VEVENT
BEGIN:VEVENT
DTSTART;TZID=Europe/Berlin:20240203T150000
DTEND;TZID=Europe/Berlin:20240203T200000
DTSTAMP:20260425T150120
CREATED:20230809T063515Z
LAST-MODIFIED:20230809T063515Z
UID:7104-1706972400-1706990400@www.schachklub-hallein.at
SUMMARY:LLB Runde 6
DESCRIPTION:Auswärtsspiel gegen SV Schwarzach/Hsk Pjesak
URL:https://www.schachklub-hallein.at/event/llb-runde-6/
END:VEVENT
BEGIN:VEVENT
DTSTART;TZID=Europe/Berlin:20240203T150000
DTEND;TZID=Europe/Berlin:20240203T200000
DTSTAMP:20260425T150120
CREATED:20230809T094225Z
LAST-MODIFIED:20230809T094225Z
UID:7114-1706972400-1706990400@www.schachklub-hallein.at
SUMMARY:2. Klasse Runde 6
DESCRIPTION:Heimspiel gegen Ranshofen 4
URL:https://www.schachklub-hallein.at/event/2-klasse-runde-6/
END:VEVENT
BEGIN:VEVENT
DTSTART;TZID=Europe/Berlin:20240208T190000
DTEND;TZID=Europe/Berlin:20240208T230000
DTSTAMP:20260425T150120
CREATED:20230816T171536Z
LAST-MODIFIED:20230816T171540Z
UID:7177-1707418800-1707433200@www.schachklub-hallein.at
SUMMARY:Offene Klubmeisterschaft 2024
DESCRIPTION:Runde 3 \nBeginn 19:00 Uhr \nAnwesenheitskontrolle 18:45 Uhr
URL:https://www.schachklub-hallein.at/event/offene-klubmeisterschaft-2024-3/
END:VEVENT
BEGIN:VEVENT
DTSTART;TZID=Europe/Berlin:20240217T090000
DTEND;TZID=Europe/Berlin:20240217T113000
DTSTAMP:20260425T150120
CREATED:20230820T132901Z
LAST-MODIFIED:20230820T132901Z
UID:7200-1708160400-1708169400@www.schachklub-hallein.at
SUMMARY:Jugendtraining
DESCRIPTION:Fortgeschrittene bis Leistungsgruppe\n09:00 bis 11:30 Uhr
URL:https://www.schachklub-hallein.at/event/jugendtraining-27/
END:VEVENT
BEGIN:VEVENT
DTSTART;TZID=Europe/Berlin:20240222T190000
DTEND;TZID=Europe/Berlin:20240222T230000
DTSTAMP:20260425T150120
CREATED:20230816T171634Z
LAST-MODIFIED:20230816T171641Z
UID:7179-1708628400-1708642800@www.schachklub-hallein.at
SUMMARY:Offene Klubmeisterschaft 2024
DESCRIPTION:Runde 4 \nBeginn 19:00 Uhr \nAnwesenheitskontrolle 18:45 Uhr
URL:https://www.schachklub-hallein.at/event/offene-klubmeisterschaft-2024-4/
END:VEVENT
BEGIN:VEVENT
DTSTART;TZID=Europe/Berlin:20240224T080000
DTEND;TZID=Europe/Berlin:20240225T170000
DTSTAMP:20260425T150120
CREATED:20230810T182415Z
LAST-MODIFIED:20240129T053722Z
UID:7138-1708761600-1708880400@www.schachklub-hallein.at
SUMMARY:Jugendlandesmeisterschaften U08 bis U18
DESCRIPTION:Ausschreibung ELM-2024-Jugendliche\nGespielt wird in Schwarzach!!
URL:https://www.schachklub-hallein.at/event/jugendlandesmeisterschaften-u08-bis-u18/
END:VEVENT
END:VCALENDAR