BEGIN:VCALENDAR
VERSION:2.0
PRODID:-//1. Halleiner Schachklub - ECPv6.15.18//NONSGML v1.0//EN
CALSCALE:GREGORIAN
METHOD:PUBLISH
X-ORIGINAL-URL:https://www.schachklub-hallein.at
X-WR-CALDESC:Veranstaltungen für 1. Halleiner Schachklub
REFRESH-INTERVAL;VALUE=DURATION:PT1H
X-Robots-Tag:noindex
X-PUBLISHED-TTL:PT1H
BEGIN:VTIMEZONE
TZID:Europe/Berlin
BEGIN:DAYLIGHT
TZOFFSETFROM:+0100
TZOFFSETTO:+0200
TZNAME:CEST
DTSTART:20240331T010000
END:DAYLIGHT
BEGIN:STANDARD
TZOFFSETFROM:+0200
TZOFFSETTO:+0100
TZNAME:CET
DTSTART:20241027T010000
END:STANDARD
BEGIN:DAYLIGHT
TZOFFSETFROM:+0100
TZOFFSETTO:+0200
TZNAME:CEST
DTSTART:20250330T010000
END:DAYLIGHT
BEGIN:STANDARD
TZOFFSETFROM:+0200
TZOFFSETTO:+0100
TZNAME:CET
DTSTART:20251026T010000
END:STANDARD
BEGIN:DAYLIGHT
TZOFFSETFROM:+0100
TZOFFSETTO:+0200
TZNAME:CEST
DTSTART:20260329T010000
END:DAYLIGHT
BEGIN:STANDARD
TZOFFSETFROM:+0200
TZOFFSETTO:+0100
TZNAME:CET
DTSTART:20261025T010000
END:STANDARD
END:VTIMEZONE
BEGIN:VEVENT
DTSTART;TZID=Europe/Berlin:20251108T090000
DTEND;TZID=Europe/Berlin:20251108T110000
DTSTAMP:20260421T105430
CREATED:20250615T102710Z
LAST-MODIFIED:20250615T102718Z
UID:13065-1762592400-1762599600@www.schachklub-hallein.at
SUMMARY:Fortgeschrittenentraining
DESCRIPTION:Teilnehmerkreis:\nFortgeschrittene Jugendliche und Erwachsene\nThema mit Abstimmung Trainer\nTrainer: Felix Kipman
URL:https://www.schachklub-hallein.at/event/fortgeschrittenentraining-10/
END:VEVENT
BEGIN:VEVENT
DTSTART;TZID=Europe/Berlin:20251108T150000
DTEND;TZID=Europe/Berlin:20251108T210000
DTSTAMP:20260421T105430
CREATED:20250804T175031Z
LAST-MODIFIED:20250826T165146Z
UID:13434-1762614000-1762635600@www.schachklub-hallein.at
SUMMARY:LLB 4. Runde & 2. Klasse Nord
DESCRIPTION:Heimspiel LL B: Union Hallein 2 : SIR Mondsee\nAuswärtsspiel 2. Klasse Nord: SIR Lehrer : Halleiner Senioren\nHeimspiel 2. Klasse Nord: Halleiner Jugend : Oberndorf/Laufen 2
URL:https://www.schachklub-hallein.at/event/llb-4-runde/
END:VEVENT
END:VCALENDAR