BEGIN:VCALENDAR
VERSION:2.0
PRODID:-//1. Halleiner Schachklub - ECPv6.15.18//NONSGML v1.0//EN
CALSCALE:GREGORIAN
METHOD:PUBLISH
X-ORIGINAL-URL:https://www.schachklub-hallein.at
X-WR-CALDESC:Veranstaltungen für 1. Halleiner Schachklub
REFRESH-INTERVAL;VALUE=DURATION:PT1H
X-Robots-Tag:noindex
X-PUBLISHED-TTL:PT1H
BEGIN:VTIMEZONE
TZID:Europe/Berlin
BEGIN:DAYLIGHT
TZOFFSETFROM:+0100
TZOFFSETTO:+0200
TZNAME:CEST
DTSTART:20240331T010000
END:DAYLIGHT
BEGIN:STANDARD
TZOFFSETFROM:+0200
TZOFFSETTO:+0100
TZNAME:CET
DTSTART:20241027T010000
END:STANDARD
BEGIN:DAYLIGHT
TZOFFSETFROM:+0100
TZOFFSETTO:+0200
TZNAME:CEST
DTSTART:20250330T010000
END:DAYLIGHT
BEGIN:STANDARD
TZOFFSETFROM:+0200
TZOFFSETTO:+0100
TZNAME:CET
DTSTART:20251026T010000
END:STANDARD
BEGIN:DAYLIGHT
TZOFFSETFROM:+0100
TZOFFSETTO:+0200
TZNAME:CEST
DTSTART:20260329T010000
END:DAYLIGHT
BEGIN:STANDARD
TZOFFSETFROM:+0200
TZOFFSETTO:+0100
TZNAME:CET
DTSTART:20261025T010000
END:STANDARD
END:VTIMEZONE
BEGIN:VEVENT
DTSTART;TZID=Europe/Berlin:20250612T190000
DTEND;TZID=Europe/Berlin:20250612T210000
DTSTAMP:20260420T150411
CREATED:20250412T172837Z
LAST-MODIFIED:20250412T173140Z
UID:12527-1749754800-1749762000@www.schachklub-hallein.at
SUMMARY:Jahreshauptversammlung
DESCRIPTION:Am 12. Juni 2025 findet die 72. Jahreshauptversammlung des 1. Halleiner Schachklubs statt.\nBegrüßung durch den Obmann\nTagesordnung:\n1. Gedenken verstorbener Schachfreunde\n2. Genehmigung der Tagesordnung\n3. Genehmigung des Protokolls der 69. Jahresversammlung vom 06. Juni 2024\n4. Siegerehrung zu den Klubmeisterschaften\n5. Bericht des Obmannes\n6. Bericht des Kassiers\n7. Bericht der Revisoren\n8. Antrag Entlastung Kassier und Vorstand\n9. Neuwahl des Obmannes und des Vorstandes\n10. Beschluss über Anträge des Vorstandes und der Mitglieder\n11. Wünsche und Anregungen\n12. Allfälliges
URL:https://www.schachklub-hallein.at/event/jahreshauptversammlung-2/
END:VEVENT
END:VCALENDAR