BEGIN:VCALENDAR
VERSION:2.0
PRODID:-//1. Halleiner Schachklub - ECPv6.15.18//NONSGML v1.0//EN
CALSCALE:GREGORIAN
METHOD:PUBLISH
X-ORIGINAL-URL:https://www.schachklub-hallein.at
X-WR-CALDESC:Veranstaltungen für 1. Halleiner Schachklub
REFRESH-INTERVAL;VALUE=DURATION:PT1H
X-Robots-Tag:noindex
X-PUBLISHED-TTL:PT1H
BEGIN:VTIMEZONE
TZID:Europe/Berlin
BEGIN:DAYLIGHT
TZOFFSETFROM:+0100
TZOFFSETTO:+0200
TZNAME:CEST
DTSTART:20240331T010000
END:DAYLIGHT
BEGIN:STANDARD
TZOFFSETFROM:+0200
TZOFFSETTO:+0100
TZNAME:CET
DTSTART:20241027T010000
END:STANDARD
BEGIN:DAYLIGHT
TZOFFSETFROM:+0100
TZOFFSETTO:+0200
TZNAME:CEST
DTSTART:20250330T010000
END:DAYLIGHT
BEGIN:STANDARD
TZOFFSETFROM:+0200
TZOFFSETTO:+0100
TZNAME:CET
DTSTART:20251026T010000
END:STANDARD
BEGIN:DAYLIGHT
TZOFFSETFROM:+0100
TZOFFSETTO:+0200
TZNAME:CEST
DTSTART:20260329T010000
END:DAYLIGHT
BEGIN:STANDARD
TZOFFSETFROM:+0200
TZOFFSETTO:+0100
TZNAME:CET
DTSTART:20261025T010000
END:STANDARD
END:VTIMEZONE
BEGIN:VEVENT
DTSTART;TZID=Europe/Berlin:20250518T090000
DTEND;TZID=Europe/Berlin:20250518T170000
DTSTAMP:20260420T165446
CREATED:20250413T160812Z
LAST-MODIFIED:20250413T160812Z
UID:12546-1747558800-1747587600@www.schachklub-hallein.at
SUMMARY:KiJu-Rapid
DESCRIPTION:4.: 18.05.2025 Vereinsheim GOLLING\, Markt 106\, 5440 Golling Veranstalter: Schachklub Golling\, Kontakt: Michael Wenger Anmeldung bis 12.5. an Gerhard Rosenlechner Spielbedingungen: Bedenkzeit: 10 min + 3 s/Zug (kein Schreibzwang) Runden: 5 bis 7 Runden Schweizer System oder Rundenturnier (je nach Teilnehmerzahl)
URL:https://www.schachklub-hallein.at/event/kiju-rapid/
END:VEVENT
END:VCALENDAR