BEGIN:VCALENDAR
VERSION:2.0
PRODID:-//1. Halleiner Schachklub - ECPv6.15.18//NONSGML v1.0//EN
CALSCALE:GREGORIAN
METHOD:PUBLISH
X-ORIGINAL-URL:https://www.schachklub-hallein.at
X-WR-CALDESC:Veranstaltungen für 1. Halleiner Schachklub
REFRESH-INTERVAL;VALUE=DURATION:PT1H
X-Robots-Tag:noindex
X-PUBLISHED-TTL:PT1H
BEGIN:VTIMEZONE
TZID:Europe/Berlin
BEGIN:DAYLIGHT
TZOFFSETFROM:+0100
TZOFFSETTO:+0200
TZNAME:CEST
DTSTART:20230326T010000
END:DAYLIGHT
BEGIN:STANDARD
TZOFFSETFROM:+0200
TZOFFSETTO:+0100
TZNAME:CET
DTSTART:20231029T010000
END:STANDARD
BEGIN:DAYLIGHT
TZOFFSETFROM:+0100
TZOFFSETTO:+0200
TZNAME:CEST
DTSTART:20240331T010000
END:DAYLIGHT
BEGIN:STANDARD
TZOFFSETFROM:+0200
TZOFFSETTO:+0100
TZNAME:CET
DTSTART:20241027T010000
END:STANDARD
BEGIN:DAYLIGHT
TZOFFSETFROM:+0100
TZOFFSETTO:+0200
TZNAME:CEST
DTSTART:20250330T010000
END:DAYLIGHT
BEGIN:STANDARD
TZOFFSETFROM:+0200
TZOFFSETTO:+0100
TZNAME:CET
DTSTART:20251026T010000
END:STANDARD
END:VTIMEZONE
BEGIN:VEVENT
DTSTART;TZID=Europe/Berlin:20240224T080000
DTEND;TZID=Europe/Berlin:20240225T170000
DTSTAMP:20260425T150114
CREATED:20230810T182415Z
LAST-MODIFIED:20240129T053722Z
UID:7138-1708761600-1708880400@www.schachklub-hallein.at
SUMMARY:Jugendlandesmeisterschaften U08 bis U18
DESCRIPTION:Ausschreibung ELM-2024-Jugendliche\nGespielt wird in Schwarzach!!
URL:https://www.schachklub-hallein.at/event/jugendlandesmeisterschaften-u08-bis-u18/
END:VEVENT
END:VCALENDAR